BEGIN:VCALENDAR
VERSION:2.0
PRODID:-// - ECPv6.15.17//NONSGML v1.0//EN
CALSCALE:GREGORIAN
METHOD:PUBLISH
X-ORIGINAL-URL:https://fertalymesterek.hu
X-WR-CALDESC:Események 
REFRESH-INTERVAL;VALUE=DURATION:PT1H
X-Robots-Tag:noindex
X-PUBLISHED-TTL:PT1H
BEGIN:VTIMEZONE
TZID:UTC
BEGIN:STANDARD
TZOFFSETFROM:+0000
TZOFFSETTO:+0000
TZNAME:UTC
DTSTART:20240101T000000
END:STANDARD
END:VTIMEZONE
BEGIN:VEVENT
DTSTART;TZID=UTC:20250510T093000
DTEND;TZID=UTC:20250510T150000
DTSTAMP:20260420T054914
CREATED:20250422T032909Z
LAST-MODIFIED:20250512T131959Z
UID:1787-1746869400-1746889200@fertalymesterek.hu
SUMMARY:Egerkör 2025
DESCRIPTION:Szeretettel invitáljuk Önt és Családját a „Egerkör 2025” elnevezésű kerékpáros élménynapra. A kaland ott kezdődik\, ahol az út véget ér. Csatlakozzon hozzánk egy felejthetetlen kalandra! \nA TÚRA CÉLJA:\nAz Egri Fertálymesterei Testület célja – a régi idők hagyományainak ápolása és tovább örökítése mellet – a kor szelleméhez illő hagyományok megteremtése és ápolása. Most a több százéves hagyományokkal rendelkező fertálymesterek testülete\, olyan eseményt szervez\, amely nem csupán egy egyszerű túra\, hanem egy valódi élmény és kaland a résztvevők számára. A körút során nemcsak a városunkat és környékét fedezhetjük fel\, hanem a múlt és jelen találkozását is megélhetjük a különböző kilátópontokon és útvonalakon keresztül. Tekerünk majd kerékpárúton\, murvás szakaszokon\, de még füves legelőkön is áthaladunk\, így minden résztvevőnek különleges élményben lesz része. A fertálymesterek olyan lehetőségeket biztosítanak az Egerben élőknek és a városba látogatóknak\, amelyek révén közvetlen kapcsolatba kerülhetünk a természettel és a sport örömeivel. \nSZERVEZŐ: Egri Fertálymesteri Testület\nA rendezvényen való részvétel ingyenes. \n  \nAZ INDULÁS HELYSZÍNE\, IDŐPONTJA:\nA rajt/cél központ: Eger\, Szmrecsányi Lajos Kert (Érsekkert)\, szökőkút \nIDŐPONT:\nRajt/cél központ nyitása:    2025. május 10. 9:00 óra\nIndulás időpontja:                2025. május 10. 9:30 óra\nTervezett befejezés:              2025. május 10. 15:00 óra \nEsőnap:                                   nincs\n(program változtatás jogát fenntartjuk) \nNEHÉZSÉGI SZINT (kezdő bringás szemmel nézve): közepes\n \nTÁV / ÚTVONAL:\ntáv: 31\,8km\, 360m szintemelkedés\nútvonal:  https://turistautak.openstreetmap.hu/\nAz útvonalat a szervezők biztosítják legfeljebb forgalomkorlátozás mellett\, de útzár nem lesz! \nFRISSÍTÉS:\nTöbb helyen is lesz lehetőség lajtos kocsiból vizet vételezni. A frissítés során saját kulacsot  szükséges használni\, műanyag poharat nem biztosítunk! \nREGISZTRÁCIÓ: lezárva\nA rendezvényen való részvétel feltétele az előzetes regisztráció.\nRegisztrálni a https://www.fertalymesterek.hu weboldalon lehet. \n\n\n\n\n\n\n\n\n\n\nTÁMOGATÓINK:\nAgria speciális mentő és tűzoltó csoport\, Agria polgárőr  egyesület
URL:https://fertalymesterek.hu/esemenyek/egerkor-2025/
LOCATION:Eger
CATEGORIES:Éves programok
END:VEVENT
END:VCALENDAR