BEGIN:VCALENDAR
VERSION:2.0
PRODID:-// - ECPv6.15.17//NONSGML v1.0//EN
CALSCALE:GREGORIAN
METHOD:PUBLISH
X-ORIGINAL-URL:https://fertalymesterek.hu
X-WR-CALDESC:Események 
REFRESH-INTERVAL;VALUE=DURATION:PT1H
X-Robots-Tag:noindex
X-PUBLISHED-TTL:PT1H
BEGIN:VTIMEZONE
TZID:UTC
BEGIN:STANDARD
TZOFFSETFROM:+0000
TZOFFSETTO:+0000
TZNAME:UTC
DTSTART:20250101T000000
END:STANDARD
END:VTIMEZONE
BEGIN:VEVENT
DTSTART;TZID=UTC:20260206T170000
DTEND;TZID=UTC:20260206T183000
DTSTAMP:20260419T134304
CREATED:20260206T172118Z
LAST-MODIFIED:20260206T172236Z
UID:2058-1770397200-1770402600@fertalymesterek.hu
SUMMARY:Avatási főpróba
DESCRIPTION:Avatási főpróba a városháza dísztermében. Kötelező megjelenés  a 2025-ben hivatalban levők és a 2026. évre elválasztottaknak\, zászlóőrnek\, kancellárnak\, vicekapitánynak.
URL:https://fertalymesterek.hu/esemenyek/avatasi-foproba-2/
LOCATION:Városháza díszterem\, Dobó István tér 2\, Eger\, 3300\, Hungary
END:VEVENT
BEGIN:VEVENT
DTSTART;VALUE=DATE:20260207
DTEND;VALUE=DATE:20260208
DTSTAMP:20260419T134304
CREATED:20260206T172520Z
LAST-MODIFIED:20260206T172953Z
UID:2063-1770422400-1770508799@fertalymesterek.hu
SUMMARY:Fertálymester avatás
DESCRIPTION:Fertálymester avatás\, szentmise a Bazilikában 10.00; avatás a városházán 11.00. Letéti trakta a Szent József kollégiumban\, este bál a fertálymesterek tiszteletére.
URL:https://fertalymesterek.hu/esemenyek/fertalymester-avatas-2/
LOCATION:Városháza díszterem\, Dobó István tér 2\, Eger\, 3300\, Hungary
CATEGORIES:Éves programok,Kötelező program
END:VEVENT
BEGIN:VEVENT
DTSTART;TZID=UTC:20260214T130000
DTEND;TZID=UTC:20260214T190000
DTSTAMP:20260419T134304
CREATED:20260206T173912Z
LAST-MODIFIED:20260206T173912Z
UID:2069-1771074000-1771095600@fertalymesterek.hu
SUMMARY:Csapatépítő
DESCRIPTION:Csapatépítő a 2025. évben hivatalban levők rendezésében a 2026. évre elválasztottak játékos beavatása\, este vacsorával egybekötött beszélgetés a Szent József Kollégium pincéjében.
URL:https://fertalymesterek.hu/esemenyek/csapatepito/
LOCATION:Szent József Kollégium pincéje\, Foglár György u. 1.\, Eger\, 3300\, Hungary
END:VEVENT
BEGIN:VEVENT
DTSTART;TZID=UTC:20260225T100000
DTEND;TZID=UTC:20260225T110000
DTSTAMP:20260419T134304
CREATED:20260206T174213Z
LAST-MODIFIED:20260206T174720Z
UID:2072-1772013600-1772017200@fertalymesterek.hu
SUMMARY:A kommunizmus áldozatainak emléknapja
DESCRIPTION:A kommunizmus áldozatainak emléknapja\, vicekapitány\, 3 hivatalban levő fertálymester részvételével.
URL:https://fertalymesterek.hu/esemenyek/a-kommunizmus-aldozatainak-emleknapja/
CATEGORIES:Ajánlott program,Városi/állami program
END:VEVENT
END:VCALENDAR